BEGIN:VCALENDAR
VERSION:2.0
PRODID:-//Florida Charter Institute - ECPv6.15.20//NONSGML v1.0//EN
CALSCALE:GREGORIAN
METHOD:PUBLISH
X-ORIGINAL-URL:https://flcharterinstitute.org
X-WR-CALDESC:Events for Florida Charter Institute
REFRESH-INTERVAL;VALUE=DURATION:PT1H
X-Robots-Tag:noindex
X-PUBLISHED-TTL:PT1H
BEGIN:VTIMEZONE
TZID:America/New_York
BEGIN:DAYLIGHT
TZOFFSETFROM:-0500
TZOFFSETTO:-0400
TZNAME:EDT
DTSTART:20250309T070000
END:DAYLIGHT
BEGIN:STANDARD
TZOFFSETFROM:-0400
TZOFFSETTO:-0500
TZNAME:EST
DTSTART:20251102T060000
END:STANDARD
BEGIN:DAYLIGHT
TZOFFSETFROM:-0500
TZOFFSETTO:-0400
TZNAME:EDT
DTSTART:20260308T070000
END:DAYLIGHT
BEGIN:STANDARD
TZOFFSETFROM:-0400
TZOFFSETTO:-0500
TZNAME:EST
DTSTART:20261101T060000
END:STANDARD
BEGIN:DAYLIGHT
TZOFFSETFROM:-0500
TZOFFSETTO:-0400
TZNAME:EDT
DTSTART:20270314T070000
END:DAYLIGHT
BEGIN:STANDARD
TZOFFSETFROM:-0400
TZOFFSETTO:-0500
TZNAME:EST
DTSTART:20271107T060000
END:STANDARD
END:VTIMEZONE
BEGIN:VEVENT
DTSTART;VALUE=DATE:20260501
DTEND;VALUE=DATE:20260503
DTSTAMP:20260424T070708
CREATED:20260417T173617Z
LAST-MODIFIED:20260417T173617Z
UID:10000139-1777593600-1777766399@flcharterinstitute.org
SUMMARY:2026 Summit on Classical Education
DESCRIPTION:The Classical Education Summit is a premier gathering uniting K-12 and higher education leaders to advance classical education’s growth from kindergarten through graduate school. \n\nA statewide network of teachers\, school leaders\, scholars\, researchers\, policy makers\, and supporters who believe education should aim at wisdom\, not test scores. \n\nWhile K-12 classical schools in Florida experience remarkable growth\, there’s also a renewal of the liberal arts in colleges and universities across the state.\nThis May we will gather K-12 and higher education in common cause: the growth and development of classical education–from kindergarten to graduate school.\n\nFor more information\, visit: https://flclassical.org/2026summit/
URL:https://flcharterinstitute.org/event/2026-summit-on-classical-education/
ATTACH;FMTTYPE=image/jpeg:https://flcharterinstitute.org/wp-content/uploads/2026/04/Screenshot-2026-04-17-133533.jpg
END:VEVENT
END:VCALENDAR